BEGIN:VCALENDAR
VERSION:2.0
PRODID:-//Les Sapins du Séronais - ECPv6.10.1.1//NONSGML v1.0//EN
CALSCALE:GREGORIAN
METHOD:PUBLISH
X-WR-CALNAME:Les Sapins du Séronais
X-ORIGINAL-URL:https://lessapinsduseronais.fr
X-WR-CALDESC:Évènements pour Les Sapins du Séronais
REFRESH-INTERVAL;VALUE=DURATION:PT1H
X-Robots-Tag:noindex
X-PUBLISHED-TTL:PT1H
BEGIN:VTIMEZONE
TZID:Europe/Paris
BEGIN:DAYLIGHT
TZOFFSETFROM:+0100
TZOFFSETTO:+0200
TZNAME:CEST
DTSTART:20240331T010000
END:DAYLIGHT
BEGIN:STANDARD
TZOFFSETFROM:+0200
TZOFFSETTO:+0100
TZNAME:CET
DTSTART:20241027T010000
END:STANDARD
END:VTIMEZONE
BEGIN:VEVENT
DTSTART;TZID=Europe/Paris:20241204T140000
DTEND;TZID=Europe/Paris:20241204T190000
DTSTAMP:20260421T174603
CREATED:20241117T131630Z
LAST-MODIFIED:20241117T132201Z
UID:1304-1733320800-1733338800@lessapinsduseronais.fr
SUMMARY:Portes ouvertes à la ferme - Sapin de Noël
DESCRIPTION:À l’approche de la magie de Noël\, il est temps de planifier l’ajout d’une touche enchantée à votre foyer avec notre sapin de Noël Bio. Rejoignez-nous le 4 décembre pour les après-midis portes ouvertes à la ferme\, de 14h à 19h à la Bastide de Sérou\, où vous pourrez choisir votre sapin coupé\, le mettre en filet\, et repartir avec ! \n\n\n\nDécouvrez nos offres spéciales  \n\n\n\nÉpicéa\n\n\n\n\n(100/150 cm) : 18 €\n\n\n\n(150/200 cm) : 24 €\n\n\n\n(200/250 cm) : 34 €\n\n\n\n(250 / 300 cm) : 45 €\n\n\n\nSupport en bois : 3 €\n\n\n\n\nNordmann\n\n\n\n\n(80/100 cm) : 22 €\n\n\n\n(100/125 cm) : 27 €\n\n\n\n(125/150 cm) : 32 €\n\n\n\nSupport en bois : 3 €\n\n\n\n\nSélectionnez la taille qui convient à votre espace et à votre budget. \n\n\n\nRendez-vous pour les après-midis portes ouvertes à la ferme le 4 décembre pour vivre l’expérience magique et récupérer votre sapin réservé. Faites de votre maison le lieu incontournable de cette saison festive. Joyeux Noël !
URL:https://lessapinsduseronais.fr/reservations/portes-ouvertes-a-la-ferme-sapin-de-noel-4
LOCATION:la bastide de
CATEGORIES:les après-midis portes ouvertes à la ferme
ATTACH;FMTTYPE=image/jpeg:https://lessapinsduseronais.fr/wp-content/uploads/2023/03/mother-and-daughter-buy-christmas-tree-in-forestry-2022-11-10-18-30-01-utc-scaled.jpg
END:VEVENT
END:VCALENDAR