BEGIN:VCALENDAR
VERSION:2.0
PRODID:-//Les Sapins du Séronais - ECPv6.10.1.1//NONSGML v1.0//EN
CALSCALE:GREGORIAN
METHOD:PUBLISH
X-WR-CALNAME:Les Sapins du Séronais
X-ORIGINAL-URL:https://lessapinsduseronais.fr
X-WR-CALDESC:Évènements pour Les Sapins du Séronais
REFRESH-INTERVAL;VALUE=DURATION:PT1H
X-Robots-Tag:noindex
X-PUBLISHED-TTL:PT1H
BEGIN:VTIMEZONE
TZID:Europe/Paris
BEGIN:DAYLIGHT
TZOFFSETFROM:+0100
TZOFFSETTO:+0200
TZNAME:CEST
DTSTART:20240331T010000
END:DAYLIGHT
BEGIN:STANDARD
TZOFFSETFROM:+0200
TZOFFSETTO:+0100
TZNAME:CET
DTSTART:20241027T010000
END:STANDARD
END:VTIMEZONE
BEGIN:VEVENT
DTSTART;TZID=Europe/Paris:20241201T090000
DTEND;TZID=Europe/Paris:20241201T190000
DTSTAMP:20260421T163214
CREATED:20241117T152242Z
LAST-MODIFIED:20241117T152824Z
UID:1374-1733043600-1733079600@lessapinsduseronais.fr
SUMMARY:Journée festive à l'Epicerie d'ici
DESCRIPTION:Pour un Noël authentique et local !  \n\n\n\nCette année\, les Sapins du Séronais et l’Épicerie d’Ici s’unissent pour une journée festive sous le signe de Noël ! Venez choisir votre sapin sur pied directement à l’Épicerie d’Ici et profitez d’une ambiance conviviale\, avec boissons chaudes et douceurs à déguster.  \n\n\n\n Rendez-vous le 1er décembreLieu-dit Le Soulé\, 09000 Baulou \n\n\n\n Au programme :– Choix de votre sapin parmi nos Épicéas et Nordmann qui seront sur pieds pour vous permettre de trouver VOTRE sapin.– Une ambiance chaleureuse et conviviale– L’occasion de faire vos emplettes de Noël avec des produits locaux de qualité– Et pour les enfants ? Un château gonflable rien que pour eux ! \n\n\n\nOn a hâte de vous retrouver pour partager cet esprit de Noël\, à très bientôt !
URL:https://lessapinsduseronais.fr/reservations/journee-festive-de-noel
LOCATION:Epicerie d’ici\, Lieu-dit Le Soulé\,\, 09000 Baulou\, France
CATEGORIES:Journée festive de Noël
ATTACH;FMTTYPE=image/jpeg:https://lessapinsduseronais.fr/wp-content/uploads/2023/03/mother-and-daughter-buy-christmas-tree-in-forestry-2022-11-10-18-30-01-utc-scaled.jpg
END:VEVENT
BEGIN:VEVENT
DTSTART;TZID=Europe/Paris:20241204T140000
DTEND;TZID=Europe/Paris:20241204T190000
DTSTAMP:20260421T163214
CREATED:20241117T131630Z
LAST-MODIFIED:20241117T132201Z
UID:1304-1733320800-1733338800@lessapinsduseronais.fr
SUMMARY:Portes ouvertes à la ferme - Sapin de Noël
DESCRIPTION:À l’approche de la magie de Noël\, il est temps de planifier l’ajout d’une touche enchantée à votre foyer avec notre sapin de Noël Bio. Rejoignez-nous le 4 décembre pour les après-midis portes ouvertes à la ferme\, de 14h à 19h à la Bastide de Sérou\, où vous pourrez choisir votre sapin coupé\, le mettre en filet\, et repartir avec ! \n\n\n\nDécouvrez nos offres spéciales  \n\n\n\nÉpicéa\n\n\n\n\n(100/150 cm) : 18 €\n\n\n\n(150/200 cm) : 24 €\n\n\n\n(200/250 cm) : 34 €\n\n\n\n(250 / 300 cm) : 45 €\n\n\n\nSupport en bois : 3 €\n\n\n\n\nNordmann\n\n\n\n\n(80/100 cm) : 22 €\n\n\n\n(100/125 cm) : 27 €\n\n\n\n(125/150 cm) : 32 €\n\n\n\nSupport en bois : 3 €\n\n\n\n\nSélectionnez la taille qui convient à votre espace et à votre budget. \n\n\n\nRendez-vous pour les après-midis portes ouvertes à la ferme le 4 décembre pour vivre l’expérience magique et récupérer votre sapin réservé. Faites de votre maison le lieu incontournable de cette saison festive. Joyeux Noël !
URL:https://lessapinsduseronais.fr/reservations/portes-ouvertes-a-la-ferme-sapin-de-noel-4
LOCATION:la bastide de
CATEGORIES:les après-midis portes ouvertes à la ferme
ATTACH;FMTTYPE=image/jpeg:https://lessapinsduseronais.fr/wp-content/uploads/2023/03/mother-and-daughter-buy-christmas-tree-in-forestry-2022-11-10-18-30-01-utc-scaled.jpg
END:VEVENT
BEGIN:VEVENT
DTSTART;TZID=Europe/Paris:20241207T080000
DTEND;TZID=Europe/Paris:20241207T170000
DTSTAMP:20260421T163214
CREATED:20241117T134941Z
LAST-MODIFIED:20241117T134943Z
UID:1317-1733558400-1733590800@lessapinsduseronais.fr
SUMMARY:Rimont - Marché de Noël
DESCRIPTION:À l’approche de la magie de Noël\, il est temps de planifier l’ajout d’une touche enchantée à votre foyer avec notre sapin de Noël Bio. Réservez le vôtre dès maintenant en prévision du Marché de Noël de Rimont le 7 décembre. \n\n\n\nDécouvrez nos offres spéciales : \n\n\n\nÉpicéa\n\n\n\n\n(100/150 cm) : 18 €\n\n\n\n(150/200 cm) : 24 €\n\n\n\n(200/250 cm) : 34 €\n\n\n\n(250 / 300 cm) : 45 €\n\n\n\nSupport en bois : 3 €\n\n\n\n\nNordmann\n\n\n\n\n(80/100 cm) : 22 €\n\n\n\n(100/125 cm) : 27 €\n\n\n\n(125/150 cm) : 32 €\n\n\n\nSupport en bois : 3 €\n\n\n\n\nSélectionnez la taille qui convient à votre espace et à votre budget. \n\n\n\nRendez-vous au Marché de Noël de Rimont le 7 décembre pour vivre l’expérience magique et récupérer votre sapin réservé. Faites de votre maison le lieu incontournable de cette saison festive. Joyeux Noël !
URL:https://lessapinsduseronais.fr/reservations/rimont-marche-de-noel
LOCATION:Ariège
CATEGORIES:Marché de Noël
ATTACH;FMTTYPE=image/jpeg:https://lessapinsduseronais.fr/wp-content/uploads/2023/11/387084949_283869354540726_3213240832601010274_n.jpg
END:VEVENT
BEGIN:VEVENT
DTSTART;TZID=Europe/Paris:20241207T080000
DTEND;TZID=Europe/Paris:20241208T170000
DTSTAMP:20260421T163214
CREATED:20241117T133325Z
LAST-MODIFIED:20241117T133326Z
UID:1312-1733558400-1733677200@lessapinsduseronais.fr
SUMMARY:Mirepoix- Marché de Noël
DESCRIPTION:À l’approche de la magie de Noël\, il est temps de planifier l’ajout d’une touche enchantée à votre foyer avec notre sapin de Noël Bio. Réservez le vôtre dès maintenant en prévision du Marché de Noël de Mirepoix les 7 et 8 décembre. \n\n\n\nDécouvrez nos offres spéciales : \n\n\n\nÉpicéa\n\n\n\n\n(100/150 cm) : 18 €\n\n\n\n(150/200 cm) : 24 €\n\n\n\n(200/250 cm) : 34 €\n\n\n\n(250 / 300 cm) : 45 €\n\n\n\nSupport en bois : 3 €\n\n\n\n\nNordmann\n\n\n\n\n(80/100 cm) : 22 €\n\n\n\n(100/125 cm) : 27 €\n\n\n\n(125/150 cm) : 32 €\n\n\n\nSupport en bois : 3 €\n\n\n\n\nSélectionnez la taille qui convient à votre espace et à votre budget. \n\n\n\nRendez-vous au Marché de Noël de Mirepoix les 7 et 8 décembre pour vivre l’expérience magique et récupérer votre sapin réservé. Faites de votre maison le lieu incontournable de cette saison festive. Joyeux Noël !
URL:https://lessapinsduseronais.fr/reservations/mirepoix-marche-de-noel-2
LOCATION:Marché de Mirepoix\, Place du Maréchal Leclerc\, Mirepoix\, Ariège\, 09500\, France
CATEGORIES:Marché de Noël
ATTACH;FMTTYPE=image/jpeg:https://lessapinsduseronais.fr/wp-content/uploads/2023/11/387084949_283869354540726_3213240832601010274_n.jpg
END:VEVENT
BEGIN:VEVENT
DTSTART;TZID=Europe/Paris:20241208T100000
DTEND;TZID=Europe/Paris:20241208T180000
DTSTAMP:20260421T163214
CREATED:20241117T135349Z
LAST-MODIFIED:20241117T135350Z
UID:1319-1733652000-1733680800@lessapinsduseronais.fr
SUMMARY:Vernajoul - Marché de Noël
DESCRIPTION:À l’approche de la magie de Noël\, il est temps de planifier l’ajout d’une touche enchantée à votre foyer avec notre sapin de Noël Bio. Réservez le vôtre dès maintenant en prévision du Marché de Noël de Vernajoul  le 8 décembre. \n\n\n\nDécouvrez nos offres spéciales : \n\n\n\nÉpicéa\n\n\n\n\n(100/150 cm) : 18 €\n\n\n\n(150/200 cm) : 24 €\n\n\n\n(200/250 cm) : 34 €\n\n\n\n(250 / 300 cm) : 45 €\n\n\n\nSupport en bois : 3 €\n\n\n\n\nNordmann\n\n\n\n\n(80/100 cm) : 22 €\n\n\n\n(100/125 cm) : 27 €\n\n\n\n(125/150 cm) : 32 €\n\n\n\nSupport en bois : 3 €\n\n\n\n\nSélectionnez la taille qui convient à votre espace et à votre budget. \n\n\n\nRendez-vous au Marché de Noël de Vernajoul le 8 décembre pour vivre l’expérience magique et récupérer votre sapin réservé. Faites de votre maison le lieu incontournable de cette saison festive. Joyeux Noël !
URL:https://lessapinsduseronais.fr/reservations/vernajoul-marche-de-noel
LOCATION:Marché de Noël\, Vernajoul\, Ariège\, 09000\, France
CATEGORIES:Marché de Noël
ATTACH;FMTTYPE=image/jpeg:https://lessapinsduseronais.fr/wp-content/uploads/2023/11/387084949_283869354540726_3213240832601010274_n.jpg
END:VEVENT
BEGIN:VEVENT
DTSTART;TZID=Europe/Paris:20241211T140000
DTEND;TZID=Europe/Paris:20241211T190000
DTSTAMP:20260421T163214
CREATED:20241117T132040Z
LAST-MODIFIED:20241117T132131Z
UID:1308-1733925600-1733943600@lessapinsduseronais.fr
SUMMARY:Portes ouvertes à la ferme - Sapin de Noël
DESCRIPTION:À l’approche de la magie de Noël\, il est temps de planifier l’ajout d’une touche enchantée à votre foyer avec notre sapin de Noël Bio. Rejoignez-nous le 11 décembre pour les après-midis portes ouvertes à la ferme\, de 14h à 19h à la Bastide de Sérou\, où vous pourrez choisir votre sapin coupé\, le mettre en filet\, et repartir avec ! \n\n\n\nDécouvrez nos offres spéciales  \n\n\n\nÉpicéa\n\n\n\n\n(100/150 cm) : 18 €\n\n\n\n(150/200 cm) : 24 €\n\n\n\n(200/250 cm) : 34 €\n\n\n\n(250 / 300 cm) : 45 €\n\n\n\nSupport en bois : 3 €\n\n\n\n\nNordmann\n\n\n\n\n(80/100 cm) : 22 €\n\n\n\n(100/125 cm) : 27 €\n\n\n\n(125/150 cm) : 32 €\n\n\n\nSupport en bois : 3 €\n\n\n\n\nSélectionnez la taille qui convient à votre espace et à votre budget. \n\n\n\nRendez-vous pour les après-midis portes ouvertes à la ferme le 11 décembre pour vivre l’expérience magique et récupérer votre sapin réservé. Faites de votre maison le lieu incontournable de cette saison festive. Joyeux Noël !
URL:https://lessapinsduseronais.fr/reservations/portes-ouvertes-a-la-ferme-sapin-de-noel-5
LOCATION:la bastide de
CATEGORIES:les après-midis portes ouvertes à la ferme
ATTACH;FMTTYPE=image/jpeg:https://lessapinsduseronais.fr/wp-content/uploads/2023/03/mother-and-daughter-buy-christmas-tree-in-forestry-2022-11-10-18-30-01-utc-scaled.jpg
END:VEVENT
BEGIN:VEVENT
DTSTART;TZID=Europe/Paris:20241218T140000
DTEND;TZID=Europe/Paris:20241218T190000
DTSTAMP:20260421T163214
CREATED:20241117T132255Z
LAST-MODIFIED:20241117T132256Z
UID:1310-1734530400-1734548400@lessapinsduseronais.fr
SUMMARY:Portes ouvertes à la ferme - Sapin de Noël
DESCRIPTION:À l’approche de la magie de Noël\, il est temps de planifier l’ajout d’une touche enchantée à votre foyer avec notre sapin de Noël Bio. Rejoignez-nous le 18 décembre pour les après-midis portes ouvertes à la ferme\, de 14h à 19h à la Bastide de Sérou\, où vous pourrez choisir votre sapin coupé\, le mettre en filet\, et repartir avec ! \n\n\n\nDécouvrez nos offres spéciales  \n\n\n\nÉpicéa\n\n\n\n\n(100/150 cm) : 18 €\n\n\n\n(150/200 cm) : 24 €\n\n\n\n(200/250 cm) : 34 €\n\n\n\n(250 / 300 cm) : 45 €\n\n\n\nSupport en bois : 3 €\n\n\n\n\nNordmann\n\n\n\n\n(80/100 cm) : 22 €\n\n\n\n(100/125 cm) : 27 €\n\n\n\n(125/150 cm) : 32 €\n\n\n\nSupport en bois : 3 €\n\n\n\n\nSélectionnez la taille qui convient à votre espace et à votre budget. \n\n\n\nRendez-vous pour les après-midis portes ouvertes à la ferme le 18 décembre pour vivre l’expérience magique et récupérer votre sapin réservé. Faites de votre maison le lieu incontournable de cette saison festive. Joyeux Noël !
URL:https://lessapinsduseronais.fr/reservations/portes-ouvertes-a-la-ferme-sapin-de-noel-6
LOCATION:la bastide de
CATEGORIES:les après-midis portes ouvertes à la ferme
ATTACH;FMTTYPE=image/jpeg:https://lessapinsduseronais.fr/wp-content/uploads/2023/03/mother-and-daughter-buy-christmas-tree-in-forestry-2022-11-10-18-30-01-utc-scaled.jpg
END:VEVENT
END:VCALENDAR