BEGIN:VCALENDAR
VERSION:2.0
PRODID:-//Les Sapins du Séronais - ECPv6.10.1.1//NONSGML v1.0//EN
CALSCALE:GREGORIAN
METHOD:PUBLISH
X-ORIGINAL-URL:https://lessapinsduseronais.fr
X-WR-CALDESC:Évènements pour Les Sapins du Séronais
REFRESH-INTERVAL;VALUE=DURATION:PT1H
X-Robots-Tag:noindex
X-PUBLISHED-TTL:PT1H
BEGIN:VTIMEZONE
TZID:Europe/Paris
BEGIN:DAYLIGHT
TZOFFSETFROM:+0100
TZOFFSETTO:+0200
TZNAME:CEST
DTSTART:20230326T010000
END:DAYLIGHT
BEGIN:STANDARD
TZOFFSETFROM:+0200
TZOFFSETTO:+0100
TZNAME:CET
DTSTART:20231029T010000
END:STANDARD
END:VTIMEZONE
BEGIN:VEVENT
DTSTART;TZID=Europe/Paris:20231211T160000
DTEND;TZID=Europe/Paris:20231211T190000
DTSTAMP:20260422T032822
CREATED:20231119T143900Z
LAST-MODIFIED:20231119T143903Z
UID:1215-1702310400-1702321200@lessapinsduseronais.fr
SUMMARY:Portes ouvertes à la ferme - Sapin de Noël
DESCRIPTION:À l’approche de la magie de Noël\, il est temps de planifier l’ajout d’une touche enchantée à votre foyer avec notre sapin de Noël Bio. Rejoignez-nous le 11 décembre pour les après-midis portes ouvertes à la ferme\, de 16h à 19h à la Bastide de Sérou\, où vous pourrez choisir votre sapin coupé\, le mettre en filet\, et repartir avec ! \n\n\n\nDécouvrez nos offres spéciales : \n\n\n\n\nCAT 1 (100/150 cm) : 18 €\n\n\n\nCAT 2 (150/200 cm) : 24 €\n\n\n\nCAT 3 (200/250 cm) : 34 €\n\n\n\nSupport en bois : 5 €\n\n\n\n\nSélectionnez la taille qui convient à votre espace et à votre budget.La réservation est simple avec notre formulaire de contact disponible sur le site. \n\n\n\nRendez-vous pour les après-midis portes ouvertes à la ferme le 11 décembre pour vivre l’expérience magique et récupérer votre sapin réservé. Faites de votre maison le lieu incontournable de cette saison festive. Joyeux Noël !
URL:https://lessapinsduseronais.fr/reservations/portes-ouvertes-a-la-ferme-sapin-de-noel
LOCATION:Les Sapins du Seronais\, Fayencerie\, La Bastide-de-Sérou\, Ariège\, 09240\, France
CATEGORIES:les après-midis portes ouvertes à la ferme
ATTACH;FMTTYPE=image/jpeg:https://lessapinsduseronais.fr/wp-content/uploads/2023/06/352762003_212162758378053_5681482346723538441_n.jpg
END:VEVENT
END:VCALENDAR