BEGIN:VCALENDAR
VERSION:2.0
PRODID:-//Les Sapins du Séronais - ECPv6.10.1.1//NONSGML v1.0//EN
CALSCALE:GREGORIAN
METHOD:PUBLISH
X-WR-CALNAME:Les Sapins du Séronais
X-ORIGINAL-URL:https://lessapinsduseronais.fr
X-WR-CALDESC:Évènements pour Les Sapins du Séronais
REFRESH-INTERVAL;VALUE=DURATION:PT1H
X-Robots-Tag:noindex
X-PUBLISHED-TTL:PT1H
BEGIN:VTIMEZONE
TZID:Europe/Paris
BEGIN:DAYLIGHT
TZOFFSETFROM:+0100
TZOFFSETTO:+0200
TZNAME:CEST
DTSTART:20230326T010000
END:DAYLIGHT
BEGIN:STANDARD
TZOFFSETFROM:+0200
TZOFFSETTO:+0100
TZNAME:CET
DTSTART:20231029T010000
END:STANDARD
END:VTIMEZONE
BEGIN:VEVENT
DTSTART;TZID=Europe/Paris:20231212T170000
DTEND;TZID=Europe/Paris:20231212T200000
DTSTAMP:20260422T143706
CREATED:20231119T144841Z
LAST-MODIFIED:20231119T144843Z
UID:1217-1702400400-1702411200@lessapinsduseronais.fr
SUMMARY:Massabrac - Marché de Noël
DESCRIPTION:À l’approche de la magie de Noël\, il est temps de planifier l’ajout d’une touche enchantée à votre foyer avec notre sapin de Noël Bio. Réservez le vôtre dès maintenant en prévision du Marché de Noël de Massabrac le 12 décembre. \n\n\n\nDécouvrez nos offres spéciales : \n\n\n\n\nCAT 1 (100/150 cm) : 18 €\n\n\n\nCAT 2 (150/200 cm) : 24 €\n\n\n\nCAT 3 (200/250 cm) : 34 €\n\n\n\nSupport en bois : 5 €\n\n\n\n\nSélectionnez la taille qui convient à votre espace et à votre budget.La réservation est simple avec notre formulaire de contact disponible sur le site. \n\n\n\nRendez-vous au Marché de Massabrac le 12 décembre pour vivre l’expérience magique et récupérer votre sapin réservé. Faites de votre maison le lieu incontournable de cette saison festive. Joyeux Noël !
URL:https://lessapinsduseronais.fr/reservations/massabrac-marche-de-noel
LOCATION:Marché\, 446 route des Pyrenées\, Massabrac\, 31310\, France
CATEGORIES:Marché de Noël
ATTACH;FMTTYPE=image/jpeg:https://lessapinsduseronais.fr/wp-content/uploads/2023/11/387084949_283869354540726_3213240832601010274_n.jpg
END:VEVENT
END:VCALENDAR